BEGIN:VCALENDAR
VERSION:2.0
PRODID:-//Willkommen beim Wintersportverein Warmensteinach e.V. - ECPv6.15.16//NONSGML v1.0//EN
CALSCALE:GREGORIAN
METHOD:PUBLISH
X-WR-CALNAME:Willkommen beim Wintersportverein Warmensteinach e.V.
X-ORIGINAL-URL:https://wsv-warmensteinach.de
X-WR-CALDESC:Veranstaltungen für Willkommen beim Wintersportverein Warmensteinach e.V.
REFRESH-INTERVAL;VALUE=DURATION:PT1H
X-Robots-Tag:noindex
X-PUBLISHED-TTL:PT1H
BEGIN:VTIMEZONE
TZID:UTC
BEGIN:STANDARD
TZOFFSETFROM:+0000
TZOFFSETTO:+0000
TZNAME:UTC
DTSTART:20250101T000000
END:STANDARD
END:VTIMEZONE
BEGIN:VEVENT
DTSTART;TZID=UTC:20260307T140000
DTEND;TZID=UTC:20260307T170000
DTSTAMP:20260421T092435
CREATED:20260223T075716Z
LAST-MODIFIED:20260223T081602Z
UID:482-1772892000-1772902800@wsv-warmensteinach.de
SUMMARY:DSV Nord Cup - nordischer Kombinationslauf
DESCRIPTION:20260307_Nordcup_Ausschreibung mit Warmensteinach
URL:https://wsv-warmensteinach.de/event/482/
LOCATION:Gebrüder Wehrmann Schanzen Warmensteinach
END:VEVENT
END:VCALENDAR