BEGIN:VCALENDAR
VERSION:2.0
PRODID:-//Willkommen beim Wintersportverein Warmensteinach e.V. - ECPv6.15.16//NONSGML v1.0//EN
CALSCALE:GREGORIAN
METHOD:PUBLISH
X-ORIGINAL-URL:https://wsv-warmensteinach.de
X-WR-CALDESC:Veranstaltungen für Willkommen beim Wintersportverein Warmensteinach e.V.
REFRESH-INTERVAL;VALUE=DURATION:PT1H
X-Robots-Tag:noindex
X-PUBLISHED-TTL:PT1H
BEGIN:VTIMEZONE
TZID:UTC
BEGIN:STANDARD
TZOFFSETFROM:+0000
TZOFFSETTO:+0000
TZNAME:UTC
DTSTART:20250101T000000
END:STANDARD
END:VTIMEZONE
BEGIN:VEVENT
DTSTART;TZID=UTC:20260117T140000
DTEND;TZID=UTC:20260117T170000
DTSTAMP:20260421T104253
CREATED:20260113T092256Z
LAST-MODIFIED:20260113T092256Z
UID:386-1768658400-1768669200@wsv-warmensteinach.de
SUMMARY:Bayerncup nord. Kombinationslauf
DESCRIPTION:
URL:https://wsv-warmensteinach.de/event/bayerncup-nord-kombinationslauf/
LOCATION:Gebrüder Wehrmann Schanzen Warmensteinach
END:VEVENT
END:VCALENDAR