BEGIN:VCALENDAR
VERSION:2.0
PRODID:-//Willkommen beim Wintersportverein Warmensteinach e.V. - ECPv6.15.16//NONSGML v1.0//EN
CALSCALE:GREGORIAN
METHOD:PUBLISH
X-ORIGINAL-URL:https://wsv-warmensteinach.de
X-WR-CALDESC:Veranstaltungen für Willkommen beim Wintersportverein Warmensteinach e.V.
REFRESH-INTERVAL;VALUE=DURATION:PT1H
X-Robots-Tag:noindex
X-PUBLISHED-TTL:PT1H
BEGIN:VTIMEZONE
TZID:UTC
BEGIN:STANDARD
TZOFFSETFROM:+0000
TZOFFSETTO:+0000
TZNAME:UTC
DTSTART:20250101T000000
END:STANDARD
END:VTIMEZONE
BEGIN:VEVENT
DTSTART;TZID=UTC:20260111T000000
DTEND;TZID=UTC:20260111T235959
DTSTAMP:20260421T104325
CREATED:20251226T175611Z
LAST-MODIFIED:20260102T080153Z
UID:161-1768089600-1768175999@wsv-warmensteinach.de
SUMMARY:Kidscup Skilanglauf
DESCRIPTION:2026_Ausschreibung_Skikids_Tour_WSVW
URL:https://wsv-warmensteinach.de/event/kidscup-skilanglauf/
LOCATION:Skihütte\, WSV Skihütte\, Warmensteinach\, Bayern\, 95485\, Germany
END:VEVENT
END:VCALENDAR